BEGIN:VCALENDAR
VERSION:2.0
PRODID:-//Nicola Benz - ECPv6.15.20//NONSGML v1.0//EN
CALSCALE:GREGORIAN
METHOD:PUBLISH
X-ORIGINAL-URL:https://benzbewegt.net
X-WR-CALDESC:Veranstaltungen für Nicola Benz
REFRESH-INTERVAL;VALUE=DURATION:PT1H
X-Robots-Tag:noindex
X-PUBLISHED-TTL:PT1H
BEGIN:VTIMEZONE
TZID:Europe/Berlin
BEGIN:DAYLIGHT
TZOFFSETFROM:+0100
TZOFFSETTO:+0200
TZNAME:CEST
DTSTART:20250330T010000
END:DAYLIGHT
BEGIN:STANDARD
TZOFFSETFROM:+0200
TZOFFSETTO:+0100
TZNAME:CET
DTSTART:20251026T010000
END:STANDARD
BEGIN:DAYLIGHT
TZOFFSETFROM:+0100
TZOFFSETTO:+0200
TZNAME:CEST
DTSTART:20260329T010000
END:DAYLIGHT
BEGIN:STANDARD
TZOFFSETFROM:+0200
TZOFFSETTO:+0100
TZNAME:CET
DTSTART:20261025T010000
END:STANDARD
BEGIN:DAYLIGHT
TZOFFSETFROM:+0100
TZOFFSETTO:+0200
TZNAME:CEST
DTSTART:20270328T010000
END:DAYLIGHT
BEGIN:STANDARD
TZOFFSETFROM:+0200
TZOFFSETTO:+0100
TZNAME:CET
DTSTART:20271031T010000
END:STANDARD
END:VTIMEZONE
BEGIN:VEVENT
DTSTART;TZID=Europe/Berlin:20260209T190000
DTEND;TZID=Europe/Berlin:20260209T203000
DTSTAMP:20260424T044749
CREATED:20260104T172622Z
LAST-MODIFIED:20260104T172644Z
UID:2226-1770663600-1770669000@benzbewegt.net
SUMMARY:Tanzen mit Nicola - Gruppentänze
DESCRIPTION:Tauche in die Choreografie ein: Tanzfreude pur ohne feste/festen Partner:in! \nEntdecke die Vielfalt des Tanzens ohne feste/festen Partner:in! Von tradierten bis hin zu historischen Tänzen aus dem 17.\, 18. und 19. Jahrhundert (u. a. von John Playford) biete ich Ihnen eine reiche Auswahl an Bewegungsformen im Kreis\, in der Reihe oder im Viereck. Lassen Sie sich von der mitreißender Musik inspirieren und entdecken Sie Ihren eigenen Rhythmus.
URL:https://benzbewegt.net/event/tanzen-mit-nicola-gruppentaenze-15/
LOCATION:Alpenverein Edelweiss\, Walfischgasse 12\, Wien\, Wien\, 1010\, Austria
CATEGORIES:Erwachsene
END:VEVENT
BEGIN:VEVENT
DTSTART;TZID=Europe/Berlin:20260218T180000
DTEND;TZID=Europe/Berlin:20260218T193000
DTSTAMP:20260424T044749
CREATED:20260104T173040Z
LAST-MODIFIED:20260104T195702Z
UID:2228-1771437600-1771443000@benzbewegt.net
SUMMARY:Singen mit Nicola – Jodeln
DESCRIPTION:Tanke frische Lebensfreude durch deine eigene Stimme – klinge und schwinge! \nVorsingen & Nachsingen: Zuerst die Hauptstimme\, dann die zweite oder dritte Stimme von Jodlern aus dem schwäbischen und alpenländischen Raum. Im Vordergrund stehen die Freude und der Spaß am gemeinsamen\, mehrstimmigen Gesang sowie der Aufbau eines Klangkörpers in der Gruppe. \nWeitere Informationen zum Kurs finden sich: Kursbeschreibung – Link
URL:https://benzbewegt.net/event/singen-mit-nicola-einfach-jodeln-5/
LOCATION:mica – music austria\, Stiftgasse 29\, Wien\, 1070\, Österreich
CATEGORIES:Erwachsene
END:VEVENT
BEGIN:VEVENT
DTSTART;TZID=Europe/Berlin:20260223T190000
DTEND;TZID=Europe/Berlin:20260223T203000
DTSTAMP:20260424T044749
CREATED:20260104T173428Z
LAST-MODIFIED:20260208T165020Z
UID:2230-1771873200-1771878600@benzbewegt.net
SUMMARY:Tanzen mit Nicola - Gruppentänze
DESCRIPTION:Tauche in die Choreografie ein: Tanzfreude pur ohne feste/festen Partner:in! \nEntdecke die Vielfalt des Tanzens ohne feste/festen Partner:in! Von tradierten bis hin zu historischen Tänzen aus dem 17.\, 18. und 19. Jahrhundert (u. a. von John Playford) biete ich Ihnen eine reiche Auswahl an Bewegungsformen im Kreis\, in der Reihe oder im Viereck. Lassen Sie sich von der mitreißender Musik inspirieren und entdecken Sie Ihren eigenen Rhythmus.
URL:https://benzbewegt.net/event/tanzen-mit-nicola-gruppentaenze-16/
LOCATION:Alpenverein Edelweiss\, Walfischgasse 12\, Wien\, Wien\, 1010\, Austria
CATEGORIES:Erwachsene
END:VEVENT
END:VCALENDAR